BEGIN:VCALENDAR
VERSION:2.0
PRODID:-//ERIS Info//Events//EN
CALSCALE:GREGORIAN
METHOD:PUBLISH
BEGIN:VEVENT
UID:11233-1778670900@www.erisinfo.com
DTSTAMP:20260420T164757Z
DTSTART:20260513T111500Z
DTEND:20260515T000000Z
SUMMARY:Annual Environmental Show of the South
DESCRIPTION:The Tennessee Environmental Network conference is the largest\, most comprehensive\, and diverse professional environmental education opportunity in Tennessee and the Mid-South Region.
LOCATION:Chattanooga\, TN
URL:https://www.erisinfo.com/event/annual-environmental-show-of-the-south-2/
END:VEVENT
END:VCALENDAR
