BEGIN:VCALENDAR
VERSION:2.0
PRODID:-//ERIS Info//Events//EN
CALSCALE:GREGORIAN
METHOD:PUBLISH
BEGIN:VEVENT
UID:11235-1780917840@www.erisinfo.com
DTSTAMP:20260420T184750Z
DTSTART:20260608T112400Z
DTEND:20260610T000000Z
SUMMARY:Virginia Brownfields Conference 2026
DESCRIPTION:The 2026 Virginia Brownfields Conference will be held in Staunton\, Virginia from June 8-10\, 2026.\n\n\n\nEach year\, Virginia DEQ’s VRP and Brownfields team hosts a conference that includes mobile workshops\, project highlights\, and technical sessions relevant to Brownfields work in Virginia and beyond. This effort is generally a collaboration with the EPA Region III Brownfields team and the host city where the conference will be held.
LOCATION:Staunton\, VA
URL:https://www.erisinfo.com/event/virginia-brownfields-conference-2026/
END:VEVENT
END:VCALENDAR
