BEGIN:VCALENDAR
VERSION:2.0
PRODID:-//ERIS Info//Events//EN
CALSCALE:GREGORIAN
METHOD:PUBLISH
BEGIN:VEVENT
UID:11236-1781177160@www.erisinfo.com
DTSTAMP:20260420T165254Z
DTSTART:20260611T112600Z
DTEND:20260612T000000Z
SUMMARY:RemFest &#8211\; Seattle w/ Field Day
DESCRIPTION:RemFest is the premier platform where geoscience professionals collaborate\, share knowledge\, and advance sustainable solutions for the future\, one relationship at a time.
LOCATION:Seattle\, WA
URL:https://www.erisinfo.com/event/remfest-seattle-e-field-day/
END:VEVENT
END:VCALENDAR
