BEGIN:VCALENDAR
VERSION:2.0
PRODID:-//ERIS Info//Events//EN
CALSCALE:GREGORIAN
METHOD:PUBLISH
BEGIN:VEVENT
UID:11237-1781609340@www.erisinfo.com
DTSTAMP:20260420T164534Z
DTSTART:20260616T112900Z
DTEND:20260617T000000Z
SUMMARY:NSCW 2026
DESCRIPTION:The Northeast Sustainable Communities Workshop (NSCW) returns in 2026 with a renewed mission and a powerful theme: From Contamination to Community Assets. This year\, we’re shining a spotlight on the transformative work that turns challenged properties into catalysts for revitalization\, resilience\, and opportunity. Hosted by BCONE\, NSCW brings together the full spectrum of brownfield and community redevelopment.
LOCATION:Massachusetts\, MA
URL:https://www.erisinfo.com/event/nscw-2026/
END:VEVENT
END:VCALENDAR
