BEGIN:VCALENDAR
VERSION:2.0
PRODID:-//ERIS Info//Events//EN
CALSCALE:GREGORIAN
METHOD:PUBLISH
BEGIN:VEVENT
UID:11857-1778717760@www.erisinfo.com
DTSTAMP:20260424T081335Z
DTSTART:20260514T001600Z
DTEND:20260514T230000Z
SUMMARY:Pace Poker Night
DESCRIPTION:Pace Poker Night is a great opportunity to connect with colleagues across the environmental industry in a fun and relaxed setting. Please RSVP.&nbsp\;\n\n\n\nPoker is completely optional\, so even if cards are not your thing\, feel free to come by\, enjoy some food and beverages\, and spend time networking with colleagues and industry peers.\n\n\n\nDate: Thursday\, May 14\, 2026Time: 5:30 PMLocation: Dave &amp\; Busters\, 2000 E Rio Salado Pkwy #1100 Tempe\, AZ 85281 
LOCATION:Tempe\, AZ
URL:https://www.erisinfo.com/event/pace-poker-night/
END:VEVENT
END:VCALENDAR
