BEGIN:VCALENDAR
VERSION:2.0
PRODID:-//ERIS Info//Events//EN
CALSCALE:GREGORIAN
METHOD:PUBLISH
BEGIN:VEVENT
UID:11861-1778460120@www.erisinfo.com
DTSTAMP:20260424T085839Z
DTSTART:20260511T004200Z
DTEND:20260511T230000Z
SUMMARY:Colorado Brownfields Networking Happy Hour
DESCRIPTION:The Colorado Brownfields Partnership is hosting a regional networking happy hour on the evening of May 11\, 2026\, immediately following the EPA Region 8 Brownfields Grantee Meeting at the EPA office in downtown Denver. The event runs 5:00–7:30 PM at Wynkoop Brewing Co.\n\n\n\nThe Grantee Meeting brings together EPA leadership\, CDPHE\, grantees\, and technical providers from across the region for a full day of programming. The networking happy hour follows directly\, creating a relaxed setting for meaningful conversation and relationship-building outside the formal agenda.
URL:https://www.erisinfo.com/event/colorado-brownfields-spring-networking-happy-hour/
END:VEVENT
END:VCALENDAR
